BEGIN:VCALENDAR
VERSION:2.0
PRODID:-//Grove Primary School - ECPv5.1.2//NONSGML v1.0//EN
CALSCALE:GREGORIAN
METHOD:PUBLISH
X-WR-CALNAME:Grove Primary School
X-ORIGINAL-URL:https://dkh.org.uk
X-WR-CALDESC:Events for Grove Primary School
BEGIN:VTIMEZONE
TZID:UTC
BEGIN:STANDARD
TZOFFSETFROM:+0000
TZOFFSETTO:+0000
TZNAME:UTC
DTSTART:20240101T000000
END:STANDARD
END:VTIMEZONE
BEGIN:VEVENT
DTSTART;VALUE=DATE:20240923
DTEND;VALUE=DATE:20240928
DTSTAMP:20260423T090211
CREATED:20240906T120916Z
LAST-MODIFIED:20240906T120916Z
UID:29903-1727049600-1727481599@dkh.org.uk
SUMMARY:Cycle to School Week
DESCRIPTION:Children are encouraged to cycle to school every day \n
URL:https://dkh.org.uk/event/cycle-to-school-week/
END:VEVENT
BEGIN:VEVENT
DTSTART;VALUE=DATE:20240923
DTEND;VALUE=DATE:20240928
DTSTAMP:20260423T090211
CREATED:20240920T134505Z
LAST-MODIFIED:20240920T134505Z
UID:29969-1727049600-1727481599@dkh.org.uk
SUMMARY:Design Technology Week
DESCRIPTION:Design Technology Week \n
URL:https://dkh.org.uk/event/design-technology-week-2/
END:VEVENT
BEGIN:VEVENT
DTSTART;VALUE=DATE:20240924
DTEND;VALUE=DATE:20240925
DTSTAMP:20260423T090211
CREATED:20240920T134551Z
LAST-MODIFIED:20240920T134551Z
UID:29975-1727136000-1727222399@dkh.org.uk
SUMMARY:Maple Class and Oak Class TFL Travel Workshop
DESCRIPTION:Maple Class and Oak Class TFL Travel Workshop \n
URL:https://dkh.org.uk/event/maple-class-and-oak-class-tfl-travel-workshop/
END:VEVENT
END:VCALENDAR