BEGIN:VCALENDAR
VERSION:2.0
PRODID:-//Grove Primary School - ECPv5.1.2//NONSGML v1.0//EN
CALSCALE:GREGORIAN
METHOD:PUBLISH
X-WR-CALNAME:Grove Primary School
X-ORIGINAL-URL:https://dkh.org.uk
X-WR-CALDESC:Events for Grove Primary School
BEGIN:VTIMEZONE
TZID:UTC
BEGIN:STANDARD
TZOFFSETFROM:+0000
TZOFFSETTO:+0000
TZNAME:UTC
DTSTART:20250101T000000
END:STANDARD
END:VTIMEZONE
BEGIN:VEVENT
DTSTART;VALUE=DATE:20250602
DTEND;VALUE=DATE:20250603
DTSTAMP:20260419T160631
CREATED:20250425T155121Z
LAST-MODIFIED:20250425T155121Z
UID:31182-1748822400-1748908799@dkh.org.uk
SUMMARY:Children return to school
DESCRIPTION:Children return to school \n
URL:https://dkh.org.uk/event/children-return-to-school-14/
END:VEVENT
END:VCALENDAR